Workbook

Sheet Planning chasse
A1: PLANNING DES CHASSES — SAISON 2026–2027
A2: Cantonnement d’Aywaille
A3: v4_interne - 02/10/2026
A4: Date de chasse | B4: N° lot | C4: Lot de chasse | D4: Fermeture | E4: Mode de chasse | F4: Territoire / commune
A5: 46286 | B5: 8110100004 | C5: =IFERROR(VLOOKUP(B5,'Correspondance territoires'!$A$5:$C$100,2,FALSE()),"") -> Mainire | D5: O | E5: Affût | F5: =IFERROR(VLOOKUP(B5,'Correspondance territoires'!$A$5:$C$100,3,FALSE()),"") -> Aywaille
A6: 46286 | B6: 8110100005 | C6: =IFERROR(VLOOKUP(B6,'Correspondance territoires'!$A$5:$C$100,2,FALSE()),"") -> Bois Royal | D6: O | E6: Affût | F6: =IFERROR(VLOOKUP(B6,'Correspondance territoires'!$A$5:$C$100,3,FALSE()),"") -> Stoumont
A7: 46286 | B7: 8110100018 | C7: =IFERROR(VLOOKUP(B7,'Correspondance territoires'!$A$5:$C$100,2,FALSE()),"") -> Rouge Thier, Domaine des Bruyères | D7: O | E7: Affût | F7: =IFERROR(VLOOKUP(B7,'Correspondance territoires'!$A$5:$C$100,3,FALSE()),"") -> Aywaille ; Sprimont
A8: 46286 | B8: 8110103009 | C8: =IFERROR(VLOOKUP(B8,'Correspondance territoires'!$A$5:$C$100,2,FALSE()),"") -> Chasse de Wésomont | D8: O | E8: Affût | F8: =IFERROR(VLOOKUP(B8,'Correspondance territoires'!$A$5:$C$100,3,FALSE()),"") -> Ferrières ; Manhay
A9: 46287 | B9: 8110100004 | C9: =IFERROR(VLOOKUP(B9,'Correspondance territoires'!$A$5:$C$100,2,FALSE()),"") -> Mainire | D9: O | E9: Affût | F9: =IFERROR(VLOOKUP(B9,'Correspondance territoires'!$A$5:$C$100,3,FALSE()),"") -> Aywaille
A10: 46287 | B10: 8110100005 | C10: =IFERROR(VLOOKUP(B10,'Correspondance territoires'!$A$5:$C$100,2,FALSE()),"") -> Bois Royal | D10: O | E10: Affût | F10: =IFERROR(VLOOKUP(B10,'Correspondance territoires'!$A$5:$C$100,3,FALSE()),"") -> Stoumont
A11: 46287 | B11: 8110100018 | C11: =IFERROR(VLOOKUP(B11,'Correspondance territoires'!$A$5:$C$100,2,FALSE()),"") -> Rouge Thier, Domaine des Bruyères | D11: O | E11: Affût | F11: =IFERROR(VLOOKUP(B11,'Correspondance territoires'!$A$5:$C$100,3,FALSE()),"") -> Aywaille ; Sprimont
A12: 46287 | B12: 8110103009 | C12: =IFERROR(VLOOKUP(B12,'Correspondance territoires'!$A$5:$C$100,2,FALSE()),"") -> Chasse de Wésomont | D12: O | E12: Affût | F12: =IFERROR(VLOOKUP(B12,'Correspondance territoires'!$A$5:$C$100,3,FALSE()),"") -> Ferrières ; Manhay
A13: 46288 | B13: 8110100004 | C13: =IFERROR(VLOOKUP(B13,'Correspondance territoires'!$A$5:$C$100,2,FALSE()),"") -> Mainire | D13: O | E13: Affût | F13: =IFERROR(VLOOKUP(B13,'Correspondance territoires'!$A$5:$C$100,3,FALSE()),"") -> Aywaille
A14: 46288 | B14: 8110100005 | C14: =IFERROR(VLOOKUP(B14,'Correspondance territoires'!$A$5:$C$100,2,FALSE()),"") -> Bois Royal | D14: O | E14: Affût | F14: =IFERROR(VLOOKUP(B14,'Correspondance territoires'!$A$5:$C$100,3,FALSE()),"") -> Stoumont
A15: 46288 | B15: 8110100018 | C15: =IFERROR(VLOOKUP(B15,'Correspondance territoires'!$A$5:$C$100,2,FALSE()),"") -> Rouge Thier, Domaine des Bruyères | D15: O | E15: Affût | F15: =IFERROR(VLOOKUP(B15,'Correspondance territoires'!$A$5:$C$100,3,FALSE()),"") -> Aywaille ; Sprimont
A16: 46288 | B16: 8110103009 | C16: =IFERROR(VLOOKUP(B16,'Correspondance territoires'!$A$5:$C$100,2,FALSE()),"") -> Chasse de Wésomont | D16: O | E16: Affût | F16: =IFERROR(VLOOKUP(B16,'Correspondance territoires'!$A$5:$C$100,3,FALSE()),"") -> Ferrières ; Manhay
... A338: 46417 | B338: 8110100005 | C338: =IFERROR(VLOOKUP(B338,'Correspondance territoires'!$A$5:$C$100,2,FALSE()),"") -> Bois Royal | D338: O | E338: Battue | F338: =IFERROR(VLOOKUP(B338,'Correspondance territoires'!$A$5:$C$100,3,FALSE()),"") -> Stoumont

Sheet Tableau de bord
A1: TABLEAU DE BORD — CHASSE
A4: Saison 2026–2027 · Cantonnement d’Aywaille
B6: DATES DE CHASSE | F6: LOTS DISTINCTS | J6: FERMETURES PRÉVUES
B8: 97 | F8: 84 | J8: 334
B11: BATTUES | F11: AFFÛTS | J11: COMMUNES CONCERNÉES
B13: 253 | F13: 81 | J13: 16
B16: ACTIVITÉ PAR MOIS | H16: RÉPARTITION PAR MODE
B30: COMMUNES LES PLUS CONCERNÉES

Sheet Correspondance territoires
A1: CORRESPONDANCE TERRITOIRES DE CHASSE — COMMUNES
A2: Référentiel unique : toute modification effectuée ici se répercute dans le planning et le tableau de bord.
A4: N° lot | B4: Territoire de chasse | C4: Communes concernées
A5: 8110100020 | B5: Andoumont, Rolémont, Stinval, Louveigné | C5: Sprimont ; Trooz
A6: 8110102016 | B6: Awan, Bois Julienne | C6: Aywaille ; Comblain-au-Pont
A7: 8110100009 | B7: Bablette | C7: Aywaille
A8: 8110100023 | B8: Banneux, Doyard | C8: Sprimont
A9: 8110104020 | B9: Boigneuse heid, Cretalles, Septroux | C9: Aywaille
A10: 8113108001 | B10: Bois d'Ochain - Beemont | C10: Clavier ; Ouffet ; Tinlot
A11: 8113415003 | B11: Bois d'ouffet | C11: Ouffet
A12: 8113110002 | B12: Bois de Comblain et Tolumont | C12: Anthisnes ; Comblain-au-Pont
A13: 8119923151 | B13: Bois de Favence et Bois des Gottes - Houchnée | C13: Anthisnes
A14: 8110300002 | B14: Bois de Filot, Taltinheid, Grimbiémont, Noirmont | C14: Stoumont ; Ferrières
A15: 8119923190 | B15: Bois de Neupré et Villers-au-Tour | C15: Esneux
A16: 8110166002 | B16: Bois de Rahier - Hé de l'Afru | C16: Ferrières
... A88: 8119923144 | B88: Xhos | C88: Anthisnes ; Ouffet

Sheet Listes
A1: Fermeture | B1: Mode | C1: Mois | D1: Nombre | E1: Type | F1: Nombre type | G1: Commune | H1: Nombre commune | I1: Consigne | J1: Valeur
A2: O | B2: Affût | C2: Sept. 2026 | D2: 57 | E2: Affût | F2: 81 | G2: Aywaille | H2: 120 | I2: Séparateur communes | J2: ;
A3: N | B3: Battue | C3: Oct. 2026 | D3: 98 | E3: Battue | F3: 253 | G3: Ferrières | H3: 90 | I3: Exemple | J3: Aywaille ; Comblain-au-Pont
C4: Nov. 2026 | D4: 87 | G4: Stoumont | H4: 77
C5: Déc. 2026 | D5: 71 | G5: Sprimont | H5: 53
C6: Janv. 2027 | D6: 21 | G6: Anthisnes | H6: 29
G7: Esneux | H7: 26
G8: Comblain-au-Pont | H8: 25
G9: Hamoir | H9: 20
G10: Manhay | H10: 17
G11: Ouffet | H11: 10
G12: Trooz | H12: 9
G13: Clavier | H13: 7
G14: Havelange | H14: 3
G15: Lierneux | H15: 3
G16: Ohey | H16: 3
G17: Tinlot | H17: 3
